BEGIN:VCALENDAR
VERSION:2.0
PRODID:-//Tukios.com/
BEGIN:VEVENT
UID:d96704bd-857c-4584-8c86-0c85bf997bfc@www.sunrisefuneralhomeandcemetery.com
DTSTAMP:20260420T195713Z
DTSTART:20260508T190000Z
DTEND:20260508T210000Z
SUMMARY:Celebration of Life
DESCRIPTION:
URL:https://www.sunrisefuneralhomeandcemetery.com/obituaries/roland-zengel
LOCATION:Sunrise Funeral Home 4798 Miller Trunk Highway  Hermantown MN 
	55811
GEO:46.8207191;-92.1912831
END:VEVENT
END:VCALENDAR