BEGIN:VCALENDAR
VERSION:2.0
PRODID:-//Tukios.com/
BEGIN:VEVENT
UID:84810035-0b5c-4f34-96f8-2b058267ddba@www.sunrisefuneralhomeandcemetery.com
DTSTAMP:20260420T195407Z
DTSTART:20260508T210000Z
DTEND:20260508T211500Z
SUMMARY:Military Honors
DESCRIPTION:
URL:https://www.sunrisefuneralhomeandcemetery.com/obituaries/roland-zengel
LOCATION:Sunrise Funeral Home 4798 Miller Trunk Highway  Hermantown MN 
	55811
GEO:46.8207191;-92.1912831
END:VEVENT
END:VCALENDAR