BEGIN:VCALENDAR
VERSION:2.0
PRODID:-//Tukios.com/
BEGIN:VEVENT
UID:999f5a7e-217f-45b2-b81a-2fb0da46d85f@www.sunrisefuneralhomeandcemetery.com
DTSTAMP:20260423T022805Z
DTSTART:20260427T160000Z
DTEND:20260427T170000Z
SUMMARY:Memorial Service
DESCRIPTION:
URL:https://www.sunrisefuneralhomeandcemetery.com/obituaries/paul-parent
LOCATION:Sunrise Funeral Home 4798 Miller Trunk Highway  Hermantown MN 
	55811
GEO:46.8207191;-92.1912831
END:VEVENT
END:VCALENDAR