BEGIN:VCALENDAR
VERSION:2.0
PRODID:-//Tukios.com/
BEGIN:VEVENT
UID:ed7ef4fa-caeb-400f-a689-6bd107b11f9b@www.sunrisefuneralhomeandcemetery.com
DTSTAMP:20260423T022934Z
DTSTART:20260427T150000Z
DTEND:20260427T160000Z
SUMMARY:Visitation
DESCRIPTION:
URL:https://www.sunrisefuneralhomeandcemetery.com/obituaries/paul-parent
LOCATION:Sunrise Funeral Home 4798 Miller Trunk Highway  Hermantown MN 
	55811
GEO:46.8207191;-92.1912831
END:VEVENT
END:VCALENDAR