BEGIN:VCALENDAR
VERSION:2.0
PRODID:-//Tukios.com/
BEGIN:VEVENT
UID:a3ded26b-da5b-4ae5-94ad-a9806257e79d@www.sunrisefuneralhomeandcemetery.com
DTSTAMP:20260423T205501Z
DTSTART:20260428T163000Z
DTEND:20260428T173000Z
SUMMARY:Funeral Service
DESCRIPTION:
URL:https://www.sunrisefuneralhomeandcemetery.com/obituaries/carol-rasmussen
LOCATION:Sunrise Funeral Home 4798 Miller Trunk Highway  Hermantown MN 
	55811
GEO:46.8207191;-92.1912831
END:VEVENT
END:VCALENDAR