BEGIN:VCALENDAR
VERSION:2.0
PRODID:-//Tukios.com/
BEGIN:VEVENT
UID:d42b75d0-9c71-4878-a60d-634b03cf3745@www.sunrisefuneralhomeandcemetery.com
DTSTAMP:20260423T205804Z
DTSTART:20260428T153000Z
DTEND:20260428T163000Z
SUMMARY:Celebration of Life
DESCRIPTION:
URL:https://www.sunrisefuneralhomeandcemetery.com/obituaries/carol-rasmussen
LOCATION:Sunrise Funeral Home 4798 Miller Trunk Highway  Hermantown MN 
	55811
GEO:46.8207191;-92.1912831
END:VEVENT
END:VCALENDAR